BEGIN:VCALENDAR
VERSION:2.0
PRODID:-//hacksw/handcal//NONSGML v1.0//EN
CALSCALE:GREGORIAN
BEGIN:VEVENT
DTSTART:20170726T080000Z
DTEND:20170726T093000Z
UID:e18475
DTSTAMP:20260420T081004Z
LOCATION:Nancy and Stephen Grand Israel National Center for Personalized Medicine
DESCRIPTION:G-INCPM Special Seminar - Prof. Abraham Shanzer\, The Dept. of Organic Chemistry\, Weizmann Institute - "Biomimetic Chemistry: Mimicking Biological Diversity & Addressing Technological Challenges"
SUMMARY:G-INCPM Special Seminar - Prof. Abraham Shanzer\, The Dept. of Organic Chemistry\, Weizmann Institute - "Biomimetic Chemistry: Mimicking Biological Diversity & Addressing Technological Challenges"
END:VEVENT
END:VCALENDAR