BEGIN:VCALENDAR
VERSION:2.0
PRODID:-//hacksw/handcal//NONSGML v1.0//EN
CALSCALE:GREGORIAN
BEGIN:VEVENT
DTSTART:20170730T120000Z
DTEND:20170730T130000Z
UID:e18478
DTSTAMP:20260420T050124Z
LOCATION:Wolfson Building for Biological Research
DESCRIPTION:“Gadd45 Diverse Stress Response Functions in Cancer\, Autophagy\, Sepsis & Senescence”
SUMMARY:“Gadd45 Diverse Stress Response Functions in Cancer\, Autophagy\, Sepsis & Senescence”
END:VEVENT
END:VCALENDAR