BEGIN:VCALENDAR
VERSION:2.0
PRODID:-//hacksw/handcal//NONSGML v1.0//EN
CALSCALE:GREGORIAN
BEGIN:VEVENT
DTSTART:20170809T080000Z
DTEND:20170809T090000Z
UID:e18482
DTSTAMP:20260420T122357Z
LOCATION:Perlman Chemical Sciences Building
DESCRIPTION:Beating the Thermodynamic Limit: Photo-Activation of n-Doping in Organic Semiconductors
SUMMARY:Beating the Thermodynamic Limit: Photo-Activation of n-Doping in Organic Semiconductors
END:VEVENT
END:VCALENDAR