BEGIN:VCALENDAR
VERSION:2.0
PRODID:-//hacksw/handcal//NONSGML v1.0//EN
CALSCALE:GREGORIAN
BEGIN:VEVENT
DTSTART:20170909T183000Z
DTEND:20170909T183000Z
UID:e18484
DTSTAMP:20260420T091603Z
LOCATION:Michael Sela Auditorium
DESCRIPTION:מפגש מושונוב - מוני מושונוב 
SUMMARY:מפגש מושונוב - מוני מושונוב 
END:VEVENT
END:VCALENDAR