BEGIN:VCALENDAR
VERSION:2.0
PRODID:-//hacksw/handcal//NONSGML v1.0//EN
CALSCALE:GREGORIAN
BEGIN:VEVENT
DTSTART:20180211T050000Z
DTEND:20180214T050000Z
UID:e18486
DTSTAMP:20260420T065123Z
LOCATION:Michael Sela Auditorium
DESCRIPTION:Cell-Weizmann Institute of Science Symposium: Next Gen Immunology
SUMMARY:Cell-Weizmann Institute of Science Symposium: Next Gen Immunology
END:VEVENT
END:VCALENDAR