BEGIN:VCALENDAR
VERSION:2.0
PRODID:-//hacksw/handcal//NONSGML v1.0//EN
CALSCALE:GREGORIAN
BEGIN:VEVENT
DTSTART:20170910T050000Z
DTEND:20170910T050000Z
UID:e18491
DTSTAMP:20260420T050044Z
LOCATION:The David Lopatie Conference Centre
DESCRIPTION:IVS 35th Annual Conference
SUMMARY:IVS 35th Annual Conference
END:VEVENT
END:VCALENDAR