BEGIN:VCALENDAR
VERSION:2.0
PRODID:-//hacksw/handcal//NONSGML v1.0//EN
CALSCALE:GREGORIAN
BEGIN:VEVENT
DTSTART:20171015T080000Z
DTEND:20171015T093000Z
UID:e18493
DTSTAMP:20260420T173724Z
LOCATION:Nancy and Stephen Grand Israel National Center for Personalized Medicine
DESCRIPTION:G-INCPM Special Seminar - Prof. Izhak Haviv\, Cancer Personalized Medicine & Genomic Diagnostics Lab\, Azrieli Faculty of Medicine\, Zfat\, Bar-Ilan University - "Evidence-based\, personalized\, or immuno-medicine – where’s the perfect healthcare"
SUMMARY:G-INCPM Special Seminar - Prof. Izhak Haviv\, Cancer Personalized Medicine & Genomic Diagnostics Lab\, Azrieli Faculty of Medicine\, Zfat\, Bar-Ilan University - "Evidence-based\, personalized\, or immuno-medicine – where’s the perfect healthcare"
END:VEVENT
END:VCALENDAR