BEGIN:VCALENDAR
VERSION:2.0
PRODID:-//hacksw/handcal//NONSGML v1.0//EN
CALSCALE:GREGORIAN
BEGIN:VEVENT
DTSTART:20170914T170000Z
DTEND:20170914T170000Z
UID:e18494
DTSTAMP:20260420T003355Z
LOCATION:Michael Sela Auditorium
DESCRIPTION:Yakov Yavno with his new show:
SUMMARY:Yakov Yavno with his new show:
END:VEVENT
END:VCALENDAR