BEGIN:VCALENDAR
VERSION:2.0
PRODID:-//hacksw/handcal//NONSGML v1.0//EN
CALSCALE:GREGORIAN
BEGIN:VEVENT
DTSTART:20170815T110000Z
DTEND:20170815T120000Z
UID:e18499
DTSTAMP:20260420T045927Z
LOCATION:Max and Lillian Candiotty Building
DESCRIPTION:Genome wide identification of genes mediating cancer resistance
SUMMARY:Genome wide identification of genes mediating cancer resistance
END:VEVENT
END:VCALENDAR