BEGIN:VCALENDAR
VERSION:2.0
PRODID:-//hacksw/handcal//NONSGML v1.0//EN
CALSCALE:GREGORIAN
BEGIN:VEVENT
DTSTART:20170831T080000Z
DTEND:20170831T090000Z
UID:e18500
DTSTAMP:20260420T034117Z
LOCATION:Wolfson Building for Biological Research
DESCRIPTION:Next Generation (Chip Based) Gene Synthesis: The Coming Revolution in Pharmaceutical\, Food and Environment
SUMMARY:Next Generation (Chip Based) Gene Synthesis: The Coming Revolution in Pharmaceutical\, Food and Environment
END:VEVENT
END:VCALENDAR