BEGIN:VCALENDAR
VERSION:2.0
PRODID:-//hacksw/handcal//NONSGML v1.0//EN
CALSCALE:GREGORIAN
BEGIN:VEVENT
DTSTART:20181128T120000Z
DTEND:20181128T133000Z
UID:e18505
DTSTAMP:20260421T224337Z
LOCATION:Dolfi and Lola Ebner Auditorium
DESCRIPTION:2018 Weizmann Memorial Lecture
SUMMARY:2018 Weizmann Memorial Lecture
END:VEVENT
END:VCALENDAR