BEGIN:VCALENDAR
VERSION:2.0
PRODID:-//hacksw/handcal//NONSGML v1.0//EN
CALSCALE:GREGORIAN
BEGIN:VEVENT
DTSTART:20170907T080000Z
DTEND:20170907T090000Z
UID:e18508
DTSTAMP:20260420T034112Z
LOCATION:Dolfi and Lola Ebner Auditorium
DESCRIPTION:Life Science Special Seminar
SUMMARY:Life Science Special Seminar
END:VEVENT
END:VCALENDAR