BEGIN:VCALENDAR
VERSION:2.0
PRODID:-//hacksw/handcal//NONSGML v1.0//EN
CALSCALE:GREGORIAN
BEGIN:VEVENT
DTSTART:20171018T110000Z
DTEND:20171018T120000Z
UID:e18509
DTSTAMP:20260420T173737Z
LOCATION:Max and Lillian Candiotty Building
DESCRIPTION:Monitoring treatment response by imaging oncogenic rewiring and immune microenvironment changes\, through combining whole body imaging with tissue / exosome-based approaches
SUMMARY:Monitoring treatment response by imaging oncogenic rewiring and immune microenvironment changes\, through combining whole body imaging with tissue / exosome-based approaches
END:VEVENT
END:VCALENDAR