BEGIN:VCALENDAR
VERSION:2.0
PRODID:-//hacksw/handcal//NONSGML v1.0//EN
CALSCALE:GREGORIAN
BEGIN:VEVENT
DTSTART:20171017T070000Z
DTEND:20171017T080000Z
UID:e18513
DTSTAMP:20260420T173731Z
LOCATION:Nella and Leon Benoziyo Building for Biological Sciences
DESCRIPTION:Dissecting a Three-Protein Brain: The Chemosensory Array of E. coli  
SUMMARY:Dissecting a Three-Protein Brain: The Chemosensory Array of E. coli  
END:VEVENT
END:VCALENDAR