BEGIN:VCALENDAR
VERSION:2.0
PRODID:-//hacksw/handcal//NONSGML v1.0//EN
CALSCALE:GREGORIAN
BEGIN:VEVENT
DTSTART:20171212T070000Z
DTEND:20171212T080000Z
UID:e18514
DTSTAMP:20260421T102921Z
LOCATION:Nella and Leon Benoziyo Building for Biological Sciences
DESCRIPTION:Electrostatics in Protein Structure and Action
SUMMARY:Electrostatics in Protein Structure and Action
END:VEVENT
END:VCALENDAR