BEGIN:VCALENDAR
VERSION:2.0
PRODID:-//hacksw/handcal//NONSGML v1.0//EN
CALSCALE:GREGORIAN
BEGIN:VEVENT
DTSTART:20171024T050000Z
DTEND:20171024T050000Z
UID:e18522
DTSTAMP:20260422T041742Z
LOCATION:Michael Sela Auditorium
DESCRIPTION:HESTPV Solar ERAnet October 2017 meeting
SUMMARY:HESTPV Solar ERAnet October 2017 meeting
END:VEVENT
END:VCALENDAR