BEGIN:VCALENDAR
VERSION:2.0
PRODID:-//hacksw/handcal//NONSGML v1.0//EN
CALSCALE:GREGORIAN
BEGIN:VEVENT
DTSTART:20170904T093000Z
DTEND:20170904T093000Z
UID:e18526
DTSTAMP:20260421T213547Z
LOCATION:Gerhard M.J. Schmidt Lecture Hall
DESCRIPTION:Speech processing in auditory cortex with and without oscillations
SUMMARY:Speech processing in auditory cortex with and without oscillations
END:VEVENT
END:VCALENDAR