BEGIN:VCALENDAR
VERSION:2.0
PRODID:-//hacksw/handcal//NONSGML v1.0//EN
CALSCALE:GREGORIAN
BEGIN:VEVENT
DTSTART:20170907T080000Z
DTEND:20170907T090000Z
UID:e18533
DTSTAMP:20260420T120000Z
LOCATION:Perlman Chemical Sciences Building
DESCRIPTION:by Direct Loading of Supports using the Stable Pd(0) Complex\, Pd2(dba)3
SUMMARY:by Direct Loading of Supports using the Stable Pd(0) Complex\, Pd2(dba)3
END:VEVENT
END:VCALENDAR