BEGIN:VCALENDAR
VERSION:2.0
PRODID:-//hacksw/handcal//NONSGML v1.0//EN
CALSCALE:GREGORIAN
BEGIN:VEVENT
DTSTART:20170917T120000Z
DTEND:20170917T130000Z
UID:e18537
DTSTAMP:20260420T045919Z
LOCATION:Nella and Leon Benoziyo Building for Biological Sciences
DESCRIPTION:Molecular Neuroscience Forum Seminar
SUMMARY:Molecular Neuroscience Forum Seminar
END:VEVENT
END:VCALENDAR