BEGIN:VCALENDAR
VERSION:2.0
PRODID:-//hacksw/handcal//NONSGML v1.0//EN
CALSCALE:GREGORIAN
BEGIN:VEVENT
DTSTART:20170913T110000Z
DTEND:20170913T120000Z
UID:e18539
DTSTAMP:20260420T050057Z
LOCATION:Arthur and Rochelle Belfer Building for Biomedical Research
DESCRIPTION:Does senescence/polyploidazation lead to cancer cell regrowth?
SUMMARY:Does senescence/polyploidazation lead to cancer cell regrowth?
END:VEVENT
END:VCALENDAR