BEGIN:VCALENDAR
VERSION:2.0
PRODID:-//hacksw/handcal//NONSGML v1.0//EN
CALSCALE:GREGORIAN
BEGIN:VEVENT
DTSTART:20170912T083000Z
DTEND:20170912T093000Z
UID:e18540
DTSTAMP:20260420T050100Z
LOCATION:Arthur and Rochelle Belfer Building for Biomedical Research
DESCRIPTION:A proximity map of a human cell
SUMMARY:A proximity map of a human cell
END:VEVENT
END:VCALENDAR