BEGIN:VCALENDAR
VERSION:2.0
PRODID:-//hacksw/handcal//NONSGML v1.0//EN
CALSCALE:GREGORIAN
BEGIN:VEVENT
DTSTART:20171026T081500Z
DTEND:20171026T091500Z
UID:e18544
DTSTAMP:20260422T182743Z
LOCATION:Edna and K.B. Weissman Building of Physical Sciences
DESCRIPTION:Interfacing Single Electron Spins with a Quantum Bus
SUMMARY:Interfacing Single Electron Spins with a Quantum Bus
END:VEVENT
END:VCALENDAR