BEGIN:VCALENDAR
VERSION:2.0
PRODID:-//hacksw/handcal//NONSGML v1.0//EN
CALSCALE:GREGORIAN
BEGIN:VEVENT
DTSTART:20171116T081500Z
DTEND:20171116T091500Z
UID:e18550
DTSTAMP:20260421T180745Z
LOCATION:Edna and K.B. Weissman Building of Physical Sciences
DESCRIPTION:Small-Scale\, Highly Precise Tests of the Standard Model and Its Symmetries
SUMMARY:Small-Scale\, Highly Precise Tests of the Standard Model and Its Symmetries
END:VEVENT
END:VCALENDAR