BEGIN:VCALENDAR
VERSION:2.0
PRODID:-//hacksw/handcal//NONSGML v1.0//EN
CALSCALE:GREGORIAN
BEGIN:VEVENT
DTSTART:20170917T080000Z
DTEND:20170917T080000Z
UID:e18551
DTSTAMP:20260420T050129Z
LOCATION:Arthur and Rochelle Belfer Building for Biomedical Research
DESCRIPTION:Imaging how cells decide their fate\, shape and position in the early mouse embryo
SUMMARY:Imaging how cells decide their fate\, shape and position in the early mouse embryo
END:VEVENT
END:VCALENDAR