BEGIN:VCALENDAR
VERSION:2.0
PRODID:-//hacksw/handcal//NONSGML v1.0//EN
CALSCALE:GREGORIAN
BEGIN:VEVENT
DTSTART:20171101T060000Z
DTEND:20171101T080000Z
UID:e18555
DTSTAMP:20260423T044702Z
LOCATION:Dolfi and Lola Ebner Auditorium
DESCRIPTION:Memorial Day for Yitzhak Rabin
SUMMARY:Memorial Day for Yitzhak Rabin
END:VEVENT
END:VCALENDAR