BEGIN:VCALENDAR
VERSION:2.0
PRODID:-//hacksw/handcal//NONSGML v1.0//EN
CALSCALE:GREGORIAN
BEGIN:VEVENT
DTSTART:20171207T081500Z
DTEND:20171207T093000Z
UID:e18558
DTSTAMP:20260421T085037Z
LOCATION:Edna and K.B. Weissman Building of Physical Sciences
DESCRIPTION:Wonders of viscous electronics
SUMMARY:Wonders of viscous electronics
END:VEVENT
END:VCALENDAR