BEGIN:VCALENDAR
VERSION:2.0
PRODID:-//hacksw/handcal//NONSGML v1.0//EN
CALSCALE:GREGORIAN
BEGIN:VEVENT
DTSTART:20171016T073000Z
DTEND:20171016T140000Z
UID:e18597
DTSTAMP:20260420T173702Z
LOCATION:Michael Sela Auditorium
DESCRIPTION:Protein evolution - from so simple a beginning
SUMMARY:Protein evolution - from so simple a beginning
END:VEVENT
END:VCALENDAR