BEGIN:VCALENDAR
VERSION:2.0
PRODID:-//hacksw/handcal//NONSGML v1.0//EN
CALSCALE:GREGORIAN
BEGIN:VEVENT
DTSTART:20171016T113000Z
DTEND:20171016T113000Z
UID:e18598
DTSTAMP:20260420T173724Z
LOCATION:Nella and Leon Benoziyo Building for Brain Research
DESCRIPTION:Using whiskers to gain insights into animal behaviour and motor control
SUMMARY:Using whiskers to gain insights into animal behaviour and motor control
END:VEVENT
END:VCALENDAR