BEGIN:VCALENDAR
VERSION:2.0
PRODID:-//hacksw/handcal//NONSGML v1.0//EN
CALSCALE:GREGORIAN
BEGIN:VEVENT
DTSTART:20171119T080000Z
DTEND:20171119T080000Z
UID:e18605
DTSTAMP:20260421T150449Z
LOCATION:Nella and Leon Benoziyo Building for Biological Sciences
DESCRIPTION:Bioengineering Photosynthesis. The Final Frontier in Increasing Sustainable Crop Yield Potential and Ensuring Future Global Food Security
SUMMARY:Bioengineering Photosynthesis. The Final Frontier in Increasing Sustainable Crop Yield Potential and Ensuring Future Global Food Security
END:VEVENT
END:VCALENDAR