BEGIN:VCALENDAR
VERSION:2.0
PRODID:-//hacksw/handcal//NONSGML v1.0//EN
CALSCALE:GREGORIAN
BEGIN:VEVENT
DTSTART:20180423T080000Z
DTEND:20180423T091500Z
UID:e18615
DTSTAMP:20260420T115919Z
LOCATION:Gerhard M.J. Schmidt Lecture Hall
DESCRIPTION:"Quantitative chemical imaging in vivo"
SUMMARY:"Quantitative chemical imaging in vivo"
END:VEVENT
END:VCALENDAR