BEGIN:VCALENDAR
VERSION:2.0
PRODID:-//hacksw/handcal//NONSGML v1.0//EN
CALSCALE:GREGORIAN
BEGIN:VEVENT
DTSTART:19691231T160000Z
DTEND:19691231T160000Z
UID:e18617
DTSTAMP:20260420T190114Z
LOCATION:
DESCRIPTION:Minerva Annual Meeting 2019
SUMMARY:Minerva Annual Meeting 2019
END:VEVENT
END:VCALENDAR