BEGIN:VCALENDAR
VERSION:2.0
PRODID:-//hacksw/handcal//NONSGML v1.0//EN
CALSCALE:GREGORIAN
BEGIN:VEVENT
DTSTART:20180212T080000Z
DTEND:20180212T091500Z
UID:e18620
DTSTAMP:20260420T122407Z
LOCATION:Gerhard M.J. Schmidt Lecture Hall
DESCRIPTION:"Dynamics and mechanisms of DNA repair by photolyases"
SUMMARY:"Dynamics and mechanisms of DNA repair by photolyases"
END:VEVENT
END:VCALENDAR