BEGIN:VCALENDAR
VERSION:2.0
PRODID:-//hacksw/handcal//NONSGML v1.0//EN
CALSCALE:GREGORIAN
BEGIN:VEVENT
DTSTART:20171024T070000Z
DTEND:20171024T080000Z
UID:e18626
DTSTAMP:20260422T041915Z
LOCATION:Nella and Leon Benoziyo Building for Biological Sciences
DESCRIPTION:Sewing the Original “Smart Fabrics”: Catalysts of Extracellular Matrix Assembly
SUMMARY:Sewing the Original “Smart Fabrics”: Catalysts of Extracellular Matrix Assembly
END:VEVENT
END:VCALENDAR