BEGIN:VCALENDAR
VERSION:2.0
PRODID:-//hacksw/handcal//NONSGML v1.0//EN
CALSCALE:GREGORIAN
BEGIN:VEVENT
DTSTART:20171022T070000Z
DTEND:20171022T080000Z
UID:e18628
DTSTAMP:20260420T173716Z
LOCATION:Nella and Leon Benoziyo Building for Biological Sciences
DESCRIPTION:Evolution and Engineering of Allosteric Regulation in Protein Kinases
SUMMARY:Evolution and Engineering of Allosteric Regulation in Protein Kinases
END:VEVENT
END:VCALENDAR