BEGIN:VCALENDAR
VERSION:2.0
PRODID:-//hacksw/handcal//NONSGML v1.0//EN
CALSCALE:GREGORIAN
BEGIN:VEVENT
DTSTART:20171030T080000Z
DTEND:20171030T093000Z
UID:e18633
DTSTAMP:20260421T213541Z
LOCATION:Helen and Milton A. Kimmelman Building
DESCRIPTION:Surface organometallic chemistry\, a powerful tool to yield molecular supported species and calibrated nanoparticles: Applications in catalysis and microelectronics
SUMMARY:Surface organometallic chemistry\, a powerful tool to yield molecular supported species and calibrated nanoparticles: Applications in catalysis and microelectronics
END:VEVENT
END:VCALENDAR