BEGIN:VCALENDAR
VERSION:2.0
PRODID:-//hacksw/handcal//NONSGML v1.0//EN
CALSCALE:GREGORIAN
BEGIN:VEVENT
DTSTART:20171024T080000Z
DTEND:20171024T090000Z
UID:e18640
DTSTAMP:20260422T033919Z
LOCATION:Max and Lillian Candiotty Building
DESCRIPTION:Identification of a unique cell cycle regulator in Streptococcus pneumoniae by en masse GFP localization\, Tn-seq and CRISPRi phenotyping
SUMMARY:Identification of a unique cell cycle regulator in Streptococcus pneumoniae by en masse GFP localization\, Tn-seq and CRISPRi phenotyping
END:VEVENT
END:VCALENDAR