BEGIN:VCALENDAR
VERSION:2.0
PRODID:-//hacksw/handcal//NONSGML v1.0//EN
CALSCALE:GREGORIAN
BEGIN:VEVENT
DTSTART:20171025T090000Z
DTEND:20171025T100000Z
UID:e18655
DTSTAMP:20260421T213338Z
LOCATION:Gerhard M.J. Schmidt Lecture Hall
DESCRIPTION:Triple-stage mass spectrometry unravels the heterogeneity of endogenous protein complexes
SUMMARY:Triple-stage mass spectrometry unravels the heterogeneity of endogenous protein complexes
END:VEVENT
END:VCALENDAR