BEGIN:VCALENDAR
VERSION:2.0
PRODID:-//hacksw/handcal//NONSGML v1.0//EN
CALSCALE:GREGORIAN
BEGIN:VEVENT
DTSTART:20171025T110000Z
DTEND:20171025T120000Z
UID:e18659
DTSTAMP:20260421T213454Z
LOCATION:Perlman Chemical Sciences Building
DESCRIPTION:Two-Dimensional (2D) Transition Metal Carbides\, Nitrides\, and Carbonitrides (MXenes) as Electrode Materials for High-Performance Supercapacitors
SUMMARY:Two-Dimensional (2D) Transition Metal Carbides\, Nitrides\, and Carbonitrides (MXenes) as Electrode Materials for High-Performance Supercapacitors
END:VEVENT
END:VCALENDAR