BEGIN:VCALENDAR
VERSION:2.0
PRODID:-//hacksw/handcal//NONSGML v1.0//EN
CALSCALE:GREGORIAN
BEGIN:VEVENT
DTSTART:20171031T093000Z
DTEND:20171031T093000Z
UID:e18662
DTSTAMP:20260423T145535Z
LOCATION:Gerhard M.J. Schmidt Lecture Hall
DESCRIPTION:Revealing the neural correlates of behavior without behavioral measurements
SUMMARY:Revealing the neural correlates of behavior without behavioral measurements
END:VEVENT
END:VCALENDAR