BEGIN:VCALENDAR
VERSION:2.0
PRODID:-//hacksw/handcal//NONSGML v1.0//EN
CALSCALE:GREGORIAN
BEGIN:VEVENT
DTSTART:20171212T090000Z
DTEND:20171212T090000Z
UID:e18673
DTSTAMP:20260424T223808Z
LOCATION:Dolfi and Lola Ebner Auditorium
DESCRIPTION:Prof. Eldad Tzahor  - Amending a broken heart
SUMMARY:Prof. Eldad Tzahor  - Amending a broken heart
END:VEVENT
END:VCALENDAR