BEGIN:VCALENDAR
VERSION:2.0
PRODID:-//hacksw/handcal//NONSGML v1.0//EN
CALSCALE:GREGORIAN
BEGIN:VEVENT
DTSTART:20180531T050000Z
DTEND:20180531T050000Z
UID:e18677
DTSTAMP:20260419T193527Z
LOCATION:The David Lopatie Conference Centre
DESCRIPTION:Annual Meeting of the Israeli Statistical Association
SUMMARY:Annual Meeting of the Israeli Statistical Association
END:VEVENT
END:VCALENDAR