BEGIN:VCALENDAR
VERSION:2.0
PRODID:-//hacksw/handcal//NONSGML v1.0//EN
CALSCALE:GREGORIAN
BEGIN:VEVENT
DTSTART:20171219T050000Z
DTEND:20171221T050000Z
UID:e18678
DTSTAMP:20260421T173916Z
LOCATION:The David Lopatie Conference Centre
DESCRIPTION:Israel-Turkey meeting on nanoscale science
SUMMARY:Israel-Turkey meeting on nanoscale science
END:VEVENT
END:VCALENDAR