BEGIN:VCALENDAR
VERSION:2.0
PRODID:-//hacksw/handcal//NONSGML v1.0//EN
CALSCALE:GREGORIAN
BEGIN:VEVENT
DTSTART:19691231T160000Z
DTEND:19691231T160000Z
UID:e18684
DTSTAMP:20260421T085534Z
LOCATION:Michael Sela Auditorium
DESCRIPTION:2017 Israel Computer Vision Day
SUMMARY:2017 Israel Computer Vision Day
END:VEVENT
END:VCALENDAR