BEGIN:VCALENDAR
VERSION:2.0
PRODID:-//hacksw/handcal//NONSGML v1.0//EN
CALSCALE:GREGORIAN
BEGIN:VEVENT
DTSTART:20171115T120000Z
DTEND:20171115T120000Z
UID:e18688
DTSTAMP:20260421T223120Z
LOCATION:Perlman Chemical Sciences Building
DESCRIPTION:Chemical and Biological Physics Dept Guest Seminar
SUMMARY:Chemical and Biological Physics Dept Guest Seminar
END:VEVENT
END:VCALENDAR