BEGIN:VCALENDAR
VERSION:2.0
PRODID:-//hacksw/handcal//NONSGML v1.0//EN
CALSCALE:GREGORIAN
BEGIN:VEVENT
DTSTART:20171119T110000Z
DTEND:20171119T120000Z
UID:e18693
DTSTAMP:20260421T150445Z
LOCATION:Perlman Chemical Sciences Building
DESCRIPTION:Low Dimensional Colloidal Nano-Perovskites: Not Your Usual Quantum Dots
SUMMARY:Low Dimensional Colloidal Nano-Perovskites: Not Your Usual Quantum Dots
END:VEVENT
END:VCALENDAR