BEGIN:VCALENDAR
VERSION:2.0
PRODID:-//hacksw/handcal//NONSGML v1.0//EN
CALSCALE:GREGORIAN
BEGIN:VEVENT
DTSTART:20190114T050000Z
DTEND:20190116T050000Z
UID:e18698
DTSTAMP:20260419T100415Z
LOCATION:The David Lopatie Conference Centre
DESCRIPTION:Winter School on 2D Materials
SUMMARY:Winter School on 2D Materials
END:VEVENT
END:VCALENDAR