BEGIN:VCALENDAR
VERSION:2.0
PRODID:-//hacksw/handcal//NONSGML v1.0//EN
CALSCALE:GREGORIAN
BEGIN:VEVENT
DTSTART:20180213T090000Z
DTEND:20180213T090000Z
UID:e18706
DTSTAMP:20260420T065135Z
LOCATION:Dolfi and Lola Ebner Auditorium
DESCRIPTION:Prof. Roy Bar-Ziv  - Thinking outside the cell: Biology on a chip
SUMMARY:Prof. Roy Bar-Ziv  - Thinking outside the cell: Biology on a chip
END:VEVENT
END:VCALENDAR