BEGIN:VCALENDAR
VERSION:2.0
PRODID:-//hacksw/handcal//NONSGML v1.0//EN
CALSCALE:GREGORIAN
BEGIN:VEVENT
DTSTART:20171207T070000Z
DTEND:20171207T070000Z
UID:e18723
DTSTAMP:20260422T041734Z
LOCATION:Arthur and Rochelle Belfer Building for Biomedical Research
DESCRIPTION:(Re)Constructing the Vertebrate Neural Tube
SUMMARY:(Re)Constructing the Vertebrate Neural Tube
END:VEVENT
END:VCALENDAR