BEGIN:VCALENDAR
VERSION:2.0
PRODID:-//hacksw/handcal//NONSGML v1.0//EN
CALSCALE:GREGORIAN
BEGIN:VEVENT
DTSTART:20171119T100000Z
DTEND:20171119T110000Z
UID:e18728
DTSTAMP:20260422T151204Z
LOCATION:Arthur and Rochelle Belfer Building for Biomedical Research
DESCRIPTION:Molecular Genetics Departmental Seminars 2017-2018
SUMMARY:Molecular Genetics Departmental Seminars 2017-2018
END:VEVENT
END:VCALENDAR