BEGIN:VCALENDAR
VERSION:2.0
PRODID:-//hacksw/handcal//NONSGML v1.0//EN
CALSCALE:GREGORIAN
BEGIN:VEVENT
DTSTART:20180114T050000Z
DTEND:20180115T050000Z
UID:e18732
DTSTAMP:20260421T102921Z
LOCATION:The David Lopatie Conference Centre
DESCRIPTION:When Light Meets Matter: Celebrating Yehiam Prior's first 70 years
SUMMARY:When Light Meets Matter: Celebrating Yehiam Prior's first 70 years
END:VEVENT
END:VCALENDAR